BEGIN:VCALENDAR
VERSION:2.0
PRODID:-//Openluchttheater Valkenburg - ECPv6.15.20//NONSGML v1.0//EN
CALSCALE:GREGORIAN
METHOD:PUBLISH
X-WR-CALNAME:Openluchttheater Valkenburg
X-ORIGINAL-URL:https://oltvb.nl
X-WR-CALDESC:Evenementen voor Openluchttheater Valkenburg
REFRESH-INTERVAL;VALUE=DURATION:PT1H
X-Robots-Tag:noindex
X-PUBLISHED-TTL:PT1H
BEGIN:VTIMEZONE
TZID:Europe/Amsterdam
BEGIN:DAYLIGHT
TZOFFSETFROM:+0100
TZOFFSETTO:+0200
TZNAME:CEST
DTSTART:20240331T010000
END:DAYLIGHT
BEGIN:STANDARD
TZOFFSETFROM:+0200
TZOFFSETTO:+0100
TZNAME:CET
DTSTART:20241027T010000
END:STANDARD
BEGIN:DAYLIGHT
TZOFFSETFROM:+0100
TZOFFSETTO:+0200
TZNAME:CEST
DTSTART:20250330T010000
END:DAYLIGHT
BEGIN:STANDARD
TZOFFSETFROM:+0200
TZOFFSETTO:+0100
TZNAME:CET
DTSTART:20251026T010000
END:STANDARD
BEGIN:DAYLIGHT
TZOFFSETFROM:+0100
TZOFFSETTO:+0200
TZNAME:CEST
DTSTART:20260329T010000
END:DAYLIGHT
BEGIN:STANDARD
TZOFFSETFROM:+0200
TZOFFSETTO:+0100
TZNAME:CET
DTSTART:20261025T010000
END:STANDARD
END:VTIMEZONE
BEGIN:VEVENT
DTSTART;TZID=Europe/Amsterdam:20250904T203000
DTEND;TZID=Europe/Amsterdam:20250904T223000
DTSTAMP:20260421T005347
CREATED:20250426T221016Z
LAST-MODIFIED:20250831T190620Z
UID:164172-1757017800-1757025000@oltvb.nl
SUMMARY:-UITVERKOCHT- BEN POOLE & GUY SMEETS | Acoustic Duo Live
DESCRIPTION:De Brit Ben Poole wordt omschreven als een van de meest opwindende jonge blues/rock performers. Ben komt naar ons theater samen met de jonge Nederlandse virtuoze blues gitarist Guy Smeets\, ‘My Little brother from another mother’ zoals Ben het zegt.   \nAls ze samen spelen vliegen de vonken ervan af en voel je dat de vrienden het heerlijk vinden om samen de Blues te spelen en te zingen.\nOndanks dat beiden heren een steeds succesvollere carriere hebben maken ze af en toe nog tijd om samen op het podium te kruipen. Op donderdag 4 september is dat het intieme podium van ons grottheater.      \nOver Ben Poole: \n“Truly astonishing” – Classic Rock Magazine\n“F***ing amazing!” – Jeff Beck\n“A really\, REALLY good player” – Gary Moore\n“So amazing!” – Beth Hart\n“Killer!” – Kenny Wayne Shepherd\n“Unbelievable!” – Richie Kotzen\n“Definitely one to watch” – Guitarist Magazine\n“This is a young man to look out for as he is no doubt a rising talent” – Blues Matters Magazine  \nOver Guy:\nGeworteld in blues sinds zijn vroege jeugd en geïnspireerd door de muziek van bluesgiganten als Stevie Ray Vaughan\, is Guy uitgegroeid tot een alleskunner met een eigen herkenbare sound. Als kind en als tiener had hij slechts een paar jaar oefenen nodig om via zijn eerste\nspeelgoedgitaar\, gekocht op een rommelmarkt\, uit te groeien tot ‘Best Dutch Blues Musician’. Een award die hem in 2019 ten deel viel.\nDe overstap van kleine pubpodia in zijn woonplaats naar grote podia\, zoals AFAS Live en Ziggo Dome\, en internationale tournees door Europa kwamen al even snel. Vorig jaar was hij te gast in ons theater als gitarist van de Phil Bee Cocker band. \n\n\n\n\n\n\n\n\n\n\n\n\n\n\n\n \n\n\n\n\n	Algemene info\n\n\nDeuren open: 19:30 uur\nAanvang: 20:30 uur (eindtijd onder voorbehoud)\nTicketprijs is incl. €2 servicekosten
URL:https://oltvb.nl/agenda/ben-poole-guy-smeets-acoustic-duo-live/
ATTACH;FMTTYPE=image/png:https://oltvb.nl/wp-content/uploads/PR_fotos/BenGuy_website_OLTVB.png
END:VEVENT
END:VCALENDAR