BEGIN:VCALENDAR
VERSION:2.0
PRODID:-//Openluchttheater Valkenburg - ECPv6.15.20//NONSGML v1.0//EN
CALSCALE:GREGORIAN
METHOD:PUBLISH
X-WR-CALNAME:Openluchttheater Valkenburg
X-ORIGINAL-URL:https://oltvb.nl
X-WR-CALDESC:Evenementen voor Openluchttheater Valkenburg
REFRESH-INTERVAL;VALUE=DURATION:PT1H
X-Robots-Tag:noindex
X-PUBLISHED-TTL:PT1H
BEGIN:VTIMEZONE
TZID:Europe/Amsterdam
BEGIN:DAYLIGHT
TZOFFSETFROM:+0100
TZOFFSETTO:+0200
TZNAME:CEST
DTSTART:20240331T010000
END:DAYLIGHT
BEGIN:STANDARD
TZOFFSETFROM:+0200
TZOFFSETTO:+0100
TZNAME:CET
DTSTART:20241027T010000
END:STANDARD
BEGIN:DAYLIGHT
TZOFFSETFROM:+0100
TZOFFSETTO:+0200
TZNAME:CEST
DTSTART:20250330T010000
END:DAYLIGHT
BEGIN:STANDARD
TZOFFSETFROM:+0200
TZOFFSETTO:+0100
TZNAME:CET
DTSTART:20251026T010000
END:STANDARD
BEGIN:DAYLIGHT
TZOFFSETFROM:+0100
TZOFFSETTO:+0200
TZNAME:CEST
DTSTART:20260329T010000
END:DAYLIGHT
BEGIN:STANDARD
TZOFFSETFROM:+0200
TZOFFSETTO:+0100
TZNAME:CET
DTSTART:20261025T010000
END:STANDARD
END:VTIMEZONE
BEGIN:VEVENT
DTSTART;TZID=Europe/Amsterdam:20250518T150000
DTEND;TZID=Europe/Amsterdam:20250518T170000
DTSTAMP:20260420T235640
CREATED:20250415T164740Z
LAST-MODIFIED:20250421T082720Z
UID:163957-1747580400-1747587600@oltvb.nl
SUMMARY:BENEFIETCONCERT HANDBIKEBATTLE
DESCRIPTION:Limburgse muzikanten steunen handbikers op weg naar Oostenrijk  \nDe Limburgse artiesten Henk Steijvers\, Jimmy Duchateau\, Paul Logister en de Tom Petty-tributeband Handle with Care brengen samen een fantastisch feel good programma in het openluchttheater. Met deze benefiet steunen zij het handbikte team van Adelante. Programmamaker en pianist Rob Mennen leidt het programma en laat het publiek kennismaken met de bijzondere verhalen van de deelnemers en hun drijfveren. Het doel: samen naar de top. Het concert wordt georganiseerd door de Vrienden van Adelante\, in samenwerking met Openluchttheater Valkenburg.   \nFeel good  \nSamen staan deze muzikanten garant voor een fantastische feel-good middag in Openluchttheater Valkenburg. Denk aan nummers als Free Fallin’\, Learning to Fly en I Won’t Back Down. Een krachtige boodschap van doorzettingsvermogen en vastberadenheid. \nOp 26 juni 2025 vindt in het Oostenrijkse Kaunertal de 11e editie plaats van de HandbikeBattle. Vanuit alle Nederlandse revalidatiecentra nemen teams deel aan deze battle; ook vanuit Adelante.  De deelnemers zijn (oud-)revalidanten.   \nRevalideren betekent ontdekken wat wél nog kan en niet te lang stilstaan bij wat niet meer mogelijk is. Vaak onderschatten revalidanten hun\neigen mogelijkheden en deelname aan de HandbikeBattle is een van de manieren om te winnen van jezelf\, je eigen vooroordelen te overwinnen en een nieuwe top in je leven te bereiken.  \nDe opbrengst van het benefietconcert ondersteunt de Adelante-deelnemers en maakt deelname van dit Summit Riders team 2025 mogelijk.   \n Vrienden van Adelante   \nHet benefietconcert Samen sterker - Rise Together wordt georganiseerd door de Vrienden van Adelante\, in samenwerking met Openluchttheater Valkenburg. De Stichting Vrienden van Adelante helpt cliënten en medewerkers om bijzondere doelen en dromen waar te maken en om extra’s te kunnen blijven bieden die dat mogelijk maken.   \nDe jaarlijkse handbikebattle in het Oostenrijkse Kaunertal is een van de activiteiten de Stichting Vrienden van Adelante zich voor inzet. Daarbij kunnen zij en de handbikers uw steun goed gebruiken. Help de helden van het Adelante Summit Riders team 2025 hun grenzen te verleggen\,\n nieuwe mogelijkheden te ontdekken en het beste uit zichzelf te halen!  \n\n\n\n\n\n\n\n\n\n\n\n\n\n\n\n\n\n\n\n	Algemene info\n\n\nDeuren open: 14:00 uur\nAanvang: 15:00 uur (eindtijd onder voorbehoud)\nTicketprijs is incl. €2 servicekosten
URL:https://oltvb.nl/agenda/benefietconcert-handbikebattle/
ATTACH;FMTTYPE=image/png:https://oltvb.nl/wp-content/uploads/PR_fotos/HandbikeBatlle_website_OLTVB.png
END:VEVENT
END:VCALENDAR