BEGIN:VCALENDAR
VERSION:2.0
PRODID:-//Openluchttheater Valkenburg - ECPv6.15.20//NONSGML v1.0//EN
CALSCALE:GREGORIAN
METHOD:PUBLISH
X-WR-CALNAME:Openluchttheater Valkenburg
X-ORIGINAL-URL:https://oltvb.nl
X-WR-CALDESC:Evenementen voor Openluchttheater Valkenburg
REFRESH-INTERVAL;VALUE=DURATION:PT1H
X-Robots-Tag:noindex
X-PUBLISHED-TTL:PT1H
BEGIN:VTIMEZONE
TZID:Europe/Amsterdam
BEGIN:DAYLIGHT
TZOFFSETFROM:+0100
TZOFFSETTO:+0200
TZNAME:CEST
DTSTART:20250330T010000
END:DAYLIGHT
BEGIN:STANDARD
TZOFFSETFROM:+0200
TZOFFSETTO:+0100
TZNAME:CET
DTSTART:20251026T010000
END:STANDARD
BEGIN:DAYLIGHT
TZOFFSETFROM:+0100
TZOFFSETTO:+0200
TZNAME:CEST
DTSTART:20260329T010000
END:DAYLIGHT
BEGIN:STANDARD
TZOFFSETFROM:+0200
TZOFFSETTO:+0100
TZNAME:CET
DTSTART:20261025T010000
END:STANDARD
BEGIN:DAYLIGHT
TZOFFSETFROM:+0100
TZOFFSETTO:+0200
TZNAME:CEST
DTSTART:20270328T010000
END:DAYLIGHT
BEGIN:STANDARD
TZOFFSETFROM:+0200
TZOFFSETTO:+0100
TZNAME:CET
DTSTART:20271031T010000
END:STANDARD
END:VTIMEZONE
BEGIN:VEVENT
DTSTART;TZID=Europe/Amsterdam:20260726T150000
DTEND;TZID=Europe/Amsterdam:20260726T170000
DTSTAMP:20260424T114333
CREATED:20260419T070004Z
LAST-MODIFIED:20260418T173121Z
UID:180514-1785078000-1785085200@oltvb.nl
SUMMARY:Canti Vaganti - Carnaval de la Vida
DESCRIPTION:“Carnaval van het leven” is een muziektheatervoorstelling voor de hele familie die het wonder van het leven viert.  \nCanti Vaganti maakt voorstellingen waarin fysiek theater\, livemuziek en humor samenkomen. Carnaval de la Vida vertelt het omgedraaide verhaal van een koppel. Naarmate het stuk vordert\, wordt het stel steeds jonger: van oudjes tot foetussen. \nHet Italiaans-Nederlandse gezelschap uit Madrid combineert livemuziek\, fysiek theater\, humor en objecttheater en nodigt het publiek zoals altijd uit om actief mee te doen. De artiesten spelen met kledingstukken als twee kinderen die de garderobe van hun ouders opentrekken om zich telkens in een andere levensfase te wanen. \nElke periode van het leven kan een carnaval zijn\, en het simpele feit dat je geboren bent\, is een feestje vieren waard.   \n\n\n\n\n\n\n\n\n\n\n\n\n\n\n\n\n \n\n\n\n\n	Algemene info\n\n* Deuren open: 14:00 uur\n* Aanvang: 15:00 uur (eindtijd onder voorbehoud)\n* Ticketprijs incl. € 2 servicekosten
URL:https://oltvb.nl/agenda/canti-vaganti-carnaval-de-la-vida/
ATTACH;FMTTYPE=image/jpeg:https://oltvb.nl/wp-content/uploads/CantiVaganti_website_OLTVB.jpg
END:VEVENT
END:VCALENDAR