BEGIN:VCALENDAR
VERSION:2.0
PRODID:-//Openluchttheater Valkenburg - ECPv6.15.20//NONSGML v1.0//EN
CALSCALE:GREGORIAN
METHOD:PUBLISH
X-WR-CALNAME:Openluchttheater Valkenburg
X-ORIGINAL-URL:https://oltvb.nl
X-WR-CALDESC:Evenementen voor Openluchttheater Valkenburg
REFRESH-INTERVAL;VALUE=DURATION:PT1H
X-Robots-Tag:noindex
X-PUBLISHED-TTL:PT1H
BEGIN:VTIMEZONE
TZID:Europe/Amsterdam
BEGIN:DAYLIGHT
TZOFFSETFROM:+0100
TZOFFSETTO:+0200
TZNAME:CEST
DTSTART:20250330T010000
END:DAYLIGHT
BEGIN:STANDARD
TZOFFSETFROM:+0200
TZOFFSETTO:+0100
TZNAME:CET
DTSTART:20251026T010000
END:STANDARD
BEGIN:DAYLIGHT
TZOFFSETFROM:+0100
TZOFFSETTO:+0200
TZNAME:CEST
DTSTART:20260329T010000
END:DAYLIGHT
BEGIN:STANDARD
TZOFFSETFROM:+0200
TZOFFSETTO:+0100
TZNAME:CET
DTSTART:20261025T010000
END:STANDARD
BEGIN:DAYLIGHT
TZOFFSETFROM:+0100
TZOFFSETTO:+0200
TZNAME:CEST
DTSTART:20270328T010000
END:DAYLIGHT
BEGIN:STANDARD
TZOFFSETFROM:+0200
TZOFFSETTO:+0100
TZNAME:CET
DTSTART:20271031T010000
END:STANDARD
END:VTIMEZONE
BEGIN:VEVENT
DTSTART;TZID=Europe/Amsterdam:20260710T203000
DTEND;TZID=Europe/Amsterdam:20260710T223000
DTSTAMP:20260421T014843
CREATED:20260322T080047Z
LAST-MODIFIED:20260321T205811Z
UID:180003-1783715400-1783722600@oltvb.nl
SUMMARY:De Cabaret Club - Op z’n Limburgs
DESCRIPTION:De Cabaret Club\, dat bekt niet alleen lekker maar is ook echt een volle avond genieten. Vijf minicabaretvoorstellingen voor de prijs van één! En deze editie is een heel speciale want voor het eerst met een volledig Limburgse line-up. En deze 5 hebben niet alleen hun roots in onze provincie maar behoren ook nog eens tot de meest getalenteerde nieuwe lichting cabaretiers van ons land.  \nUit Kerkrade komt Sjoerd Jansen\, Heerlen wordt vertegenwoordigd door Marlon Kicken. Martin Crins is een Leveroyenaar en Maastricht levert Roméé van Noorden en Remy Evers. Alle vijf zijn de afgelopen jaren bekroond met verschillende cabaretprijzen maar hebben ze nog niet eerder allemaal samen op een Limburgs podium gestaan.   \nLaat je verrassen\, kom naar De Cabaret Club! \n5 cabaretiers op 1 avond \n\n\n\n\n\n\n\n\nSjoerd Janssen\n\n\n\nSjoerd Janssen\, sinds 2023 vaste comedian bij Comedy Club Haug\, bewijst dat zelfs een gegeneraliseerde angststoornis geen belemmering hoeft te zijn om een rijzende comedyster te worden.  Zo speelde Sjoerd al meerdere dubbelshows met onder andere René van Meurs en Daniël Arends en wist hij ook op Lowlands midden in de nacht de Juliet voor zich te winnen.  Momenteel speelt Sjoerd de laatste data van zijn eerste solovoorstelling Ondanks alles. Sjoerd schrijft mee bij Dit was het nieuws en was onlangs hoofdschrijver bij het eerste seizoen van Knockout Champs. Alles wat vanzelfsprekend lijkt\, is voor Sjoerd Janssen een dagtaak. Het sociale speelvlak verandert bij Sjoerd in een schaakbord\, waarbij elke mogelijke zet uitgedacht moet worden. Maar hij kan helemaal niet schaken. Dan is het dus volkomen logisch dat er glas in een suikerspin zou kunnen zitten\, small-talk een opgave is en OV-fietsen je vijand zijn. Zijn comedy is zo wereldvreemd dat het herkenbaar wordt. \n\n\n\n\n\n\n\n\nMartijn Crins\n\n\n\nMartijn Crins (Leveroy\, 1984) studeerde aan de Academie voor Drama. Winnaar jury- en publieksprijs Cameretten Festival. Speelt nu zijn voorstelling ‘Hè Fijn’ die lovend werd ontvangen. Was onlangs nog te zien in De Slimste Mens. Met Henry van Loon maakt hij de podcast ‘Kuieren met Henry & Martijn’. Martijn is vaste comedian bij Comedy Club Haug. \n\n\n\n\n\n\n\n\nRomée van Noorden\n\n\n\nHet begon allemaal met de oerknal. En toen werd deze homo sapiens geboren: Romée van Noorden\, uit het zuiden van het land. Ik beloof je\, beste lezer\, dat dit niet het niveau wordt van mijn grappen. Het wordt slechter.\nBegin dit jaar werd ik weggebonjourd in de kwartfinale van het CTA. Maar d.m.v. een gezonde portie corruptie won ik in maart de juryprijs van het Comedy Festival Limburg. En dat ik daar nou toevallig vandaan kom\, maakte dat natuurlijk extra geloofwaardig.\nVerwacht geen verlichting – hooguit herkenning en de geruststelling dat jij niet de enige bent die weleens domme keuzes maakt in het leven.\nDe juryprijs van het Comedy Festival Limburg is de eerste prijs voor Romée Van Noorden die pas anderhalf jaar met comedy bezig is. \n\n\n\n\n\n\n\n\nMarlon Kicken\n\n\n\nMet zijn Curaçaose roots\, lange dreadlocks en zachte ‘g’ springt Marlon er al snel tussenuit in het cabaret- en stand-up comedy circuit. Marlon woonde zijn jonge jaren in Heerlen waar hij later nog terugkeerde als leerling aan de politieacademie. Hij maakte de voorstelling Getekend\, de opvolger van Draadloos\, nadat hij door corona een hele poos uit de running was. Hij lag weken in coma en moest opnieuw leren lopen\, eten en praten. \n\n\n\n\n\n\n\n\nRemy Evers\n\n\n\nRemy stond zowel met zijn bejubelde debuutvoorstelling ‘Gewoon Remy’ als met zijn nieuwe programma ‘Stoorzender’ al in ons theater.   \nEen absurdistisch spektakel over een energieke jongen met te veel vrije tijd die verstrikt raakt in een eenzijdige burenruzie. In een wereld waarin iedereen rent\, lijkt hij stil te staan. Maar niets is minder waar. Zijn hoofd maakt overuren. In een voorstelling waarin ontroering en humor vechten om voorrang en waar de grenzen tussen fantasie en realiteit elkaar kruisen\, gaat de ontwapenende Evers op zoek naar antwoorden. Is de uitvinder van de perforator ook de uitvinder van confetti? En kan een boomfluisteraar ook met papier en laminaat praten? Remy heeft geen hobby nodig maar een roeping. Hij zoekt het uit\, op zijn unieke manier. \n\n\n\n\n\n\n\n\n\n\n\n\n\n\n\n\n\n\n \n\n\n\n\n	Algemene info\n\n* Deuren open: 19:30 uur\n* Aanvang: 20:30 uur (eindtijd onder voorbehoud)\n* Ticketprijs incl. € 2 servicekosten
URL:https://oltvb.nl/agenda/de-cabaret-club-op-zn-limburgs/
ATTACH;FMTTYPE=image/jpeg:https://oltvb.nl/wp-content/uploads/DeCabaretClub_website_OLTVB.jpg
END:VEVENT
END:VCALENDAR