BEGIN:VCALENDAR
VERSION:2.0
PRODID:-//Openluchttheater Valkenburg - ECPv6.15.20//NONSGML v1.0//EN
CALSCALE:GREGORIAN
METHOD:PUBLISH
X-WR-CALNAME:Openluchttheater Valkenburg
X-ORIGINAL-URL:https://oltvb.nl
X-WR-CALDESC:Evenementen voor Openluchttheater Valkenburg
REFRESH-INTERVAL;VALUE=DURATION:PT1H
X-Robots-Tag:noindex
X-PUBLISHED-TTL:PT1H
BEGIN:VTIMEZONE
TZID:Europe/Amsterdam
BEGIN:DAYLIGHT
TZOFFSETFROM:+0100
TZOFFSETTO:+0200
TZNAME:CEST
DTSTART:20250330T010000
END:DAYLIGHT
BEGIN:STANDARD
TZOFFSETFROM:+0200
TZOFFSETTO:+0100
TZNAME:CET
DTSTART:20251026T010000
END:STANDARD
BEGIN:DAYLIGHT
TZOFFSETFROM:+0100
TZOFFSETTO:+0200
TZNAME:CEST
DTSTART:20260329T010000
END:DAYLIGHT
BEGIN:STANDARD
TZOFFSETFROM:+0200
TZOFFSETTO:+0100
TZNAME:CET
DTSTART:20261025T010000
END:STANDARD
BEGIN:DAYLIGHT
TZOFFSETFROM:+0100
TZOFFSETTO:+0200
TZNAME:CEST
DTSTART:20270328T010000
END:DAYLIGHT
BEGIN:STANDARD
TZOFFSETFROM:+0200
TZOFFSETTO:+0100
TZNAME:CET
DTSTART:20271031T010000
END:STANDARD
END:VTIMEZONE
BEGIN:VEVENT
DTSTART;TZID=Europe/Amsterdam:20260913T150000
DTEND;TZID=Europe/Amsterdam:20260913T170000
DTSTAMP:20260420T235148
CREATED:20260405T070035Z
LAST-MODIFIED:20260404T132740Z
UID:180247-1789311600-1789318800@oltvb.nl
SUMMARY:De Heks van om de Hoek - Heritage Sinfonietta met Rik Prinsen en Dyanne Sleijpen
DESCRIPTION:EEN INTERACTIEVE VERTELLING VOL MUZIKALE MAGIE!\nDe Heks van om de Hoek – Een interactieve vertelling vol beleving en muzikale magie!\nNa het succes van Raas en de Basketbal presenteert Heritage Sinfonietta een nieuw en meeslepend muzikaal avontuur: De Heks van om de Hoek. Een spannende vertelling gebaseerd op het waargebeurde verhaal van Trijn van der Moelen\, die in 1522 in Roermond als heks werd veroordeeld.  \nEen interactief mini-concert\nHeritage Sinfonietta brengt de regionale geschiedenis tot leven in een modern jasje.\nVerhalenverteller en kindertheatermaker Rik Prinsen neemt je mee in een interactieve voorstelling over heksen\, onrecht\, vriendschap en de kracht van verbeelding. Met muziek van de Limburgse componisten Twan Cox en Tim Verstegen brengt Heritage Sinfonietta het verhaal tot leven. Duizendpoot Dyanne Sleijpen neemt jong en oud mee met haar stem\, spel en zelfgeschreven liedjes.  \nNa dit mini-concert ben je een mooie ervaring en een bijzonder verhaal rijker. \n\n\n\n\n\n\n\n\n\n\n\n\n\n\n\n\n \n\n\n\n\n	Algemene info\n\n* Deuren open: 14:00 uur\n* Aanvang: 15:00 uur (eindtijd onder voorbehoud)\n* Ticketprijs incl. € 2 servicekosten
URL:https://oltvb.nl/agenda/de-heks-van-om-de-hoek/
ATTACH;FMTTYPE=image/jpeg:https://oltvb.nl/wp-content/uploads/DHVODH_website_OLTVB.jpg
END:VEVENT
END:VCALENDAR