BEGIN:VCALENDAR
VERSION:2.0
PRODID:-//Openluchttheater Valkenburg - ECPv6.15.20//NONSGML v1.0//EN
CALSCALE:GREGORIAN
METHOD:PUBLISH
X-WR-CALNAME:Openluchttheater Valkenburg
X-ORIGINAL-URL:https://oltvb.nl
X-WR-CALDESC:Evenementen voor Openluchttheater Valkenburg
REFRESH-INTERVAL;VALUE=DURATION:PT1H
X-Robots-Tag:noindex
X-PUBLISHED-TTL:PT1H
BEGIN:VTIMEZONE
TZID:Europe/Amsterdam
BEGIN:DAYLIGHT
TZOFFSETFROM:+0100
TZOFFSETTO:+0200
TZNAME:CEST
DTSTART:20240331T010000
END:DAYLIGHT
BEGIN:STANDARD
TZOFFSETFROM:+0200
TZOFFSETTO:+0100
TZNAME:CET
DTSTART:20241027T010000
END:STANDARD
BEGIN:DAYLIGHT
TZOFFSETFROM:+0100
TZOFFSETTO:+0200
TZNAME:CEST
DTSTART:20250330T010000
END:DAYLIGHT
BEGIN:STANDARD
TZOFFSETFROM:+0200
TZOFFSETTO:+0100
TZNAME:CET
DTSTART:20251026T010000
END:STANDARD
BEGIN:DAYLIGHT
TZOFFSETFROM:+0100
TZOFFSETTO:+0200
TZNAME:CEST
DTSTART:20260329T010000
END:DAYLIGHT
BEGIN:STANDARD
TZOFFSETFROM:+0200
TZOFFSETTO:+0100
TZNAME:CET
DTSTART:20261025T010000
END:STANDARD
END:VTIMEZONE
BEGIN:VEVENT
DTSTART;TZID=Europe/Amsterdam:20250529T203000
DTEND;TZID=Europe/Amsterdam:20250529T223000
DTSTAMP:20260420T164259
CREATED:20250321T074054Z
LAST-MODIFIED:20250505T064529Z
UID:163504-1748550600-1748557800@oltvb.nl
SUMMARY:-UITVERKOCHT- ERIC VLOEIMANS & EGBERT DERIX | ‘Gardens of Abundance’
DESCRIPTION:De terugkeer naar ons theater van één van ’s werelds beste trompettisten\, met naast zich een hele bijzondere pianist. Edisonwinnaar Eric Vloeimans vindt in Egbert Derix een maat om mee te excelleren.  \nBeiden zetten ze alle clichés overboord\, die aan (jazz)muzikanten kleven. De musici spelen in het nu zonder strak vooropgezet plan\, een\ncombinatie van improvisaties en eigen composities. En dan ontspint zich een weergaloos gesprek tussen piano en trompet. Teder\, verstild\, dan weer uitbundig en altijd intens. Noem het een spannend avontuur vol reislust en verrassingen. En na ieder stuk muziek komen ze weer even thuis. Van het tweetal verscheen eerder het dubbelalbum ‘Gardens of Abundance’ en inmiddels is ‘Gardens of Abundance part two’ een feit.  \nEric Vloeimans werkt samen met tal van nationaal en internationaal bekende musici en orkesten. Waaronder pianist/componist Martin Fondse\, gitarist Anton Goudsmit\, accordeonist Wil Holshouser\, Kyteman\, Spinvis\, het Metropole Orkest en Holland Baroque. Hij componeert tevens filmmuziek (onlangs nog voor de documentaire ‘Wild Port of Europe’) en is programmeur van zijn festival ‘Horn of Plenty’. Vloeimans speelt op\neen trompet van het al even beroemde van Laar Trumpets uit Margraten.   \nPianist Egbert Derix is met name bekend van zijn solo albums/concerten en zijn samenwerking met Marillion\, Iain Matthews\, De Wiener Kammersymphonie \, Fish\, John Helliwell (Supertramp)\, Searing Quartet en anderen. Hij componeert ook muziek voor tv en film en is tevens schrijver/dichter. Zijn solo piano album ‘Falco’ uit 2016 werd door MusicMaker vergeleken met Keith Jarrett’s  ‘Köln Concert’ en hij\ncomponeerde de Duitse liedcyclus ‘Wandern’. \n\n\n\n\n\n\n\n\n\n\n\n\n\n\n\n\n\n\n\n\n	Algemene info\n\n\nDeuren open: 19:30 uur\nAanvang: 20:30 uur (eindtijd onder voorbehoud)\nTicketprijs is incl. €2 servicekosten\n\n\n\nOpen in Spotify
URL:https://oltvb.nl/agenda/eric-vloeimans-egbert-derix-gardens-of-abundance/
ATTACH;FMTTYPE=image/jpeg:https://oltvb.nl/wp-content/uploads/PR_fotos/EricEgbert_website_OLTVB.jpg
END:VEVENT
END:VCALENDAR