BEGIN:VCALENDAR
VERSION:2.0
PRODID:-//Openluchttheater Valkenburg - ECPv6.15.20//NONSGML v1.0//EN
CALSCALE:GREGORIAN
METHOD:PUBLISH
X-WR-CALNAME:Openluchttheater Valkenburg
X-ORIGINAL-URL:https://oltvb.nl
X-WR-CALDESC:Evenementen voor Openluchttheater Valkenburg
REFRESH-INTERVAL;VALUE=DURATION:PT1H
X-Robots-Tag:noindex
X-PUBLISHED-TTL:PT1H
BEGIN:VTIMEZONE
TZID:Europe/Amsterdam
BEGIN:DAYLIGHT
TZOFFSETFROM:+0100
TZOFFSETTO:+0200
TZNAME:CEST
DTSTART:20250330T010000
END:DAYLIGHT
BEGIN:STANDARD
TZOFFSETFROM:+0200
TZOFFSETTO:+0100
TZNAME:CET
DTSTART:20251026T010000
END:STANDARD
BEGIN:DAYLIGHT
TZOFFSETFROM:+0100
TZOFFSETTO:+0200
TZNAME:CEST
DTSTART:20260329T010000
END:DAYLIGHT
BEGIN:STANDARD
TZOFFSETFROM:+0200
TZOFFSETTO:+0100
TZNAME:CET
DTSTART:20261025T010000
END:STANDARD
BEGIN:DAYLIGHT
TZOFFSETFROM:+0100
TZOFFSETTO:+0200
TZNAME:CEST
DTSTART:20270328T010000
END:DAYLIGHT
BEGIN:STANDARD
TZOFFSETFROM:+0200
TZOFFSETTO:+0100
TZNAME:CET
DTSTART:20271031T010000
END:STANDARD
END:VTIMEZONE
BEGIN:VEVENT
DTSTART;TZID=Europe/Amsterdam:20260829T200000
DTEND;TZID=Europe/Amsterdam:20260829T220000
DTSTAMP:20260420T235154
CREATED:20260201T090034Z
LAST-MODIFIED:20260420T103620Z
UID:171093-1788033600-1788040800@oltvb.nl
SUMMARY:Feelin' Alright 2 – Matthijs van Nieuwkerk & Sven Hammond Big Band
DESCRIPTION:Matthijs van Nieuwkerk en de weergaloze Sven Hammond Big Band komen terug naar ons theater met Feelin’ Alright 2. En wie erbij was vorig jaar weet dat dit één van de meest verrassende gevarieerde en swingende avonden van het afgelopen seizoen was.  \nFeelin’ Alright 2 is nieuw\, vrij en vol energie.\n\nEen muzikale avond die swingt\, beukt\, straalt en aait.\nJazz\, soul en groove.\nVerhalen die blijven hangen.\nOnder de sterrenhemel.  \nElke avond uniek\, met wisselende gast-artiesten.\nVriendschap op het podium.  \nDit is geen herhaling\, dit is een nieuwe ontmoeting. \nDaarnaast verwelkomen we in Valkenburg ook Waylon\, Beppie Kraft en Floor Bosman als speciale gasten van de avond. Samen met de band zorgen zij voor een unieke muzikale belevenis die elke voorstelling nét weer anders maakt. \n\n\n\n\n\n\n\n\n\n\n\n\n\n\n\n\n \n\n\n\n\n	Algemene info\n\n* Deuren open: 19:00 uur\n* Aanvang: 20:00 uur (eindtijd onder voorbehoud)\n* Tickets incl. € 2 servicekosten \nCredits Carla Gorter fotografie
URL:https://oltvb.nl/agenda/feelin-alright-2-matthijs-van-nieuwkerk-de-sven-hammond-bigband/
ATTACH;FMTTYPE=image/jpeg:https://oltvb.nl/wp-content/uploads/MatthijsSven_website_OLTVB.jpg
END:VEVENT
END:VCALENDAR