BEGIN:VCALENDAR
VERSION:2.0
PRODID:-//Openluchttheater Valkenburg - ECPv6.15.20//NONSGML v1.0//EN
CALSCALE:GREGORIAN
METHOD:PUBLISH
X-WR-CALNAME:Openluchttheater Valkenburg
X-ORIGINAL-URL:https://oltvb.nl
X-WR-CALDESC:Evenementen voor Openluchttheater Valkenburg
REFRESH-INTERVAL;VALUE=DURATION:PT1H
X-Robots-Tag:noindex
X-PUBLISHED-TTL:PT1H
BEGIN:VTIMEZONE
TZID:Europe/Amsterdam
BEGIN:DAYLIGHT
TZOFFSETFROM:+0100
TZOFFSETTO:+0200
TZNAME:CEST
DTSTART:20250330T010000
END:DAYLIGHT
BEGIN:STANDARD
TZOFFSETFROM:+0200
TZOFFSETTO:+0100
TZNAME:CET
DTSTART:20251026T010000
END:STANDARD
BEGIN:DAYLIGHT
TZOFFSETFROM:+0100
TZOFFSETTO:+0200
TZNAME:CEST
DTSTART:20260329T010000
END:DAYLIGHT
BEGIN:STANDARD
TZOFFSETFROM:+0200
TZOFFSETTO:+0100
TZNAME:CET
DTSTART:20261025T010000
END:STANDARD
BEGIN:DAYLIGHT
TZOFFSETFROM:+0100
TZOFFSETTO:+0200
TZNAME:CEST
DTSTART:20270328T010000
END:DAYLIGHT
BEGIN:STANDARD
TZOFFSETFROM:+0200
TZOFFSETTO:+0100
TZNAME:CET
DTSTART:20271031T010000
END:STANDARD
END:VTIMEZONE
BEGIN:VEVENT
DTSTART;TZID=Europe/Amsterdam:20260920T150000
DTEND;TZID=Europe/Amsterdam:20260920T170000
DTSTAMP:20260420T124757
CREATED:20260419T070011Z
LAST-MODIFIED:20260418T172247Z
UID:180536-1789916400-1789923600@oltvb.nl
SUMMARY:Hanssi Kaiser und die Nur Schlager Tribute Band
DESCRIPTION:Lass die Sonne in dein Herz want de keizer van de Duitse schlager komt terug; Hanssi Kaiser en zijn Nu Schlager Tribute Band zorgen dit jaar met een middagshow voor een onvervalst  Sommermärchen in ons theater. \nWie er al eerder bij was weet wat te verwachten; een absolute hommage aan de originele Duitse Schlager.   \nHanssi Kaiser zingt alle bekende en minder bekende Duitse Schlagers; hits van Udo Jürgens\, Jürgen Marcus\, Cindy & Bert\, Marianne Rosenberg\, Heino en onze eigen Rudi Carell. We kennen ze allemaal: “Ich bin verliebt in die Liebe”\, “Schön ist es auf die Welt zu sein” of “Ich bin wie du” maar ook de minder bekende nummers zoals “Uber 7 Brücke”\, “Ein Bett im Kornfelt” en “Du bist viel zu schon” passeren de revue. \nKom naar Freilichtbühne Valkenburg waar het podium weer wordt omgetoverd tot een plek die een uniek tijdsbeeld geeft van de gouden jaren van de Duitse Schlagers. De tijden van de ZDF Hitparade in de jaren 70 en 80 van de vorige eeuw zullen herleven. \nU bent van harte uitgenodigd voor deze onnavolgbare ‘Reise in die Vergangenheit’. Maar let op: meezingen verplicht!   \n\n\n\n\n\n\n\n\n\n\n\n\n\n\n\n\n \n\n\n\n\n	Algemene info\n\n* Deuren open: 14:00 uur\n* Aanvang: 15:00 uur (eindtijd onder voorbehoud)\n* Ticketprijs incl. € 2 servicekosten
URL:https://oltvb.nl/agenda/hanssi-kaiser-und-die-nur-schlager-tribute-band/
ATTACH;FMTTYPE=image/jpeg:https://oltvb.nl/wp-content/uploads/HanssiKaiser_website_OLTVB.jpg
END:VEVENT
END:VCALENDAR