BEGIN:VCALENDAR
VERSION:2.0
PRODID:-//Openluchttheater Valkenburg - ECPv6.15.20//NONSGML v1.0//EN
CALSCALE:GREGORIAN
METHOD:PUBLISH
X-WR-CALNAME:Openluchttheater Valkenburg
X-ORIGINAL-URL:https://oltvb.nl
X-WR-CALDESC:Evenementen voor Openluchttheater Valkenburg
REFRESH-INTERVAL;VALUE=DURATION:PT1H
X-Robots-Tag:noindex
X-PUBLISHED-TTL:PT1H
BEGIN:VTIMEZONE
TZID:Europe/Amsterdam
BEGIN:DAYLIGHT
TZOFFSETFROM:+0100
TZOFFSETTO:+0200
TZNAME:CEST
DTSTART:20250330T010000
END:DAYLIGHT
BEGIN:STANDARD
TZOFFSETFROM:+0200
TZOFFSETTO:+0100
TZNAME:CET
DTSTART:20251026T010000
END:STANDARD
BEGIN:DAYLIGHT
TZOFFSETFROM:+0100
TZOFFSETTO:+0200
TZNAME:CEST
DTSTART:20260329T010000
END:DAYLIGHT
BEGIN:STANDARD
TZOFFSETFROM:+0200
TZOFFSETTO:+0100
TZNAME:CET
DTSTART:20261025T010000
END:STANDARD
BEGIN:DAYLIGHT
TZOFFSETFROM:+0100
TZOFFSETTO:+0200
TZNAME:CEST
DTSTART:20270328T010000
END:DAYLIGHT
BEGIN:STANDARD
TZOFFSETFROM:+0200
TZOFFSETTO:+0100
TZNAME:CET
DTSTART:20271031T010000
END:STANDARD
END:VTIMEZONE
BEGIN:VEVENT
DTSTART;TZID=Europe/Amsterdam:20260704T203000
DTEND;TZID=Europe/Amsterdam:20260704T223000
DTSTAMP:20260421T014843
CREATED:20260405T070030Z
LAST-MODIFIED:20260416T144753Z
UID:180241-1783197000-1783204200@oltvb.nl
SUMMARY:Huub Stapel - Mannen komen van Mars\, vrouwen van Venus. Het onvermijdelijke vervolg
DESCRIPTION:Huub Stapel\, de meester van de relationship comedy\, keert terug met de mega theaterhit (naar de wereldwijde bestseller van relatietherapeut John Gray).  \nHuub biedt met deze one-man-show een verfrissende en hilarische kijk op onze eeuwige pogingen elkaar te begrijpen. Waar Huub eerder de verschillen tussen planeten in kaart bracht\, ontdekt hij nu met openhartige zelfspot dat er misschien wel 50 tinten Gray (pun intended) bestaan tussen Mars en Venus. Hij schakelt moeiteloos tussen wijsheid en blunders\, tussen lachen en leren. Je zult elkaar aankijken… elkaar een por in de zij geven… en herkennen wat er thuis ook gebeurt. Je lacht hardop om de onvermijdelijke misverstanden en die komische momenten waarop we dénken de ander te snappen\, om er vervolgens glorieus naast te zitten.  \nMet nieuwe inzichten én zijn eigen levenslessen deelt Huub hoe hij zelf de liefde verloor én hervond.\nDe sleutel? Geven wat je partner écht nodig heeft\, niet wat jij denkt dat goed is. Je zult jezelf betrappen op de gedachte: “Had ik dit maar eerder begrepen…!”  \nMannen komen van Mars\, vrouwen van Venus – het onvermijdelijke vervolg is een warm pleidooi voor échte verbinding. Een avond vol herkenbare lachsalvo’s voor iedereen die gelooft dat we ondanks onze verschillen\, dichter bij elkaar kunnen komen dan we ooit dachten. Al geeft Huub geen garanties\, dat heeft hij inmiddels wel geleerd. \n\n\n\n\n\n\n\n\n\n\n\n\n\n\n\n\n \n\n\n\n\n	Algemene info\n\n* Deuren open: 19:30 uur\n* Aanvang: 20:30 uur (eindtijd onder voorbehoud)\n* Ticketprijs incl. € 2 servicekosten
URL:https://oltvb.nl/agenda/huub-stapel-mannen-komen-van-mars-vrouwen-van-venus/
ATTACH;FMTTYPE=image/jpeg:https://oltvb.nl/wp-content/uploads/HuubStapel_website_OLTVB.jpg
END:VEVENT
END:VCALENDAR