BEGIN:VCALENDAR
VERSION:2.0
PRODID:-//Openluchttheater Valkenburg - ECPv6.15.20//NONSGML v1.0//EN
CALSCALE:GREGORIAN
METHOD:PUBLISH
X-WR-CALNAME:Openluchttheater Valkenburg
X-ORIGINAL-URL:https://oltvb.nl
X-WR-CALDESC:Evenementen voor Openluchttheater Valkenburg
REFRESH-INTERVAL;VALUE=DURATION:PT1H
X-Robots-Tag:noindex
X-PUBLISHED-TTL:PT1H
BEGIN:VTIMEZONE
TZID:Europe/Amsterdam
BEGIN:DAYLIGHT
TZOFFSETFROM:+0100
TZOFFSETTO:+0200
TZNAME:CEST
DTSTART:20240331T010000
END:DAYLIGHT
BEGIN:STANDARD
TZOFFSETFROM:+0200
TZOFFSETTO:+0100
TZNAME:CET
DTSTART:20241027T010000
END:STANDARD
BEGIN:DAYLIGHT
TZOFFSETFROM:+0100
TZOFFSETTO:+0200
TZNAME:CEST
DTSTART:20250330T010000
END:DAYLIGHT
BEGIN:STANDARD
TZOFFSETFROM:+0200
TZOFFSETTO:+0100
TZNAME:CET
DTSTART:20251026T010000
END:STANDARD
BEGIN:DAYLIGHT
TZOFFSETFROM:+0100
TZOFFSETTO:+0200
TZNAME:CEST
DTSTART:20260329T010000
END:DAYLIGHT
BEGIN:STANDARD
TZOFFSETFROM:+0200
TZOFFSETTO:+0100
TZNAME:CET
DTSTART:20261025T010000
END:STANDARD
END:VTIMEZONE
BEGIN:VEVENT
DTSTART;TZID=Europe/Amsterdam:20250824T203000
DTEND;TZID=Europe/Amsterdam:20250824T223000
DTSTAMP:20260420T131225
CREATED:20250601T082717Z
LAST-MODIFIED:20250823T130557Z
UID:164995-1756067400-1756074600@oltvb.nl
SUMMARY:-UITVERKOCHT- JOHN TANA ET CRAPUUL
DESCRIPTION:De meest Franse Maastrichtenaar John Tana komt op zondag 24 augustus voor een speciale voorstelling naar het Openluchttheater Valkenburg\, oftewel théâtre en plein air du Fauquemont zoals het in John’s moedertaal heet. \nNa een razendsnelle en volledig uitverkochte ‘KOM DAAN’-clubtour\, een doortocht afgelopen weekeinde op Pop on Top en de aankondiging van\neen show in Paradiso Amsterdam volgend jaar mei zet John Tana et Crapuul een volgende stap in hun muzikale missie: op zondag 24 augustus bestormen ze het podium van het zomertheater van Zuid-Limburg\, openluchttheater Valkenburg. \n“John Tana et Crapuul en Plein Air” belooft een explosieve zwoele zomerse viering te worden van muziek\, trots en het onverwoestbare Limburgse karakter. Met zijn aanstekelijke mix van chansons\, humor\, nostalgie en onmiskenbare charme zal John Tana ook het oudste en mooiste openluchtheater van Nederland aan zijn voeten krijgen. \nEngarde!\n—————\nJohn Tana is opgegroeid in een gevaarlijke wijk in het noorden van Marseille. Al op jonge leeftijd raakte hij verstrikt in de criminaliteit\, maar jaren later besloot hij het roer radicaal om te gooien. Zijn vlucht uit het verleden bracht hem naar Maastricht\, waar hij in 1989 begon aan een muzikale reis die zijn leven voorgoed zou veranderen. \nMet zijn unieke sound – een mix van Franse invloeden\, Limburgse flair en rauwe emotie\, scoorde hij al snel grote successen. Zijn eerste hits\,\nzoals Boursin\, Daan Kom Iech Mer Aon en De Kantine\, groeiden uit tot klassiekers en sloegen in als een bom bij een steeds groter wordend\npubliek. \nDe muziek van John Tana weerspiegelt zijn gevoel en gaat door merg en been. In zijn teksten schetst hij een wereld vol weemoed\,\noverlevingsdrang en trots. Elk nummer is een hoofdstuk uit zijn emotionele\, maar gevaarlijke verleden – verteld met de intensiteit en kracht\ndie hem tot een icoon maken. \n\n\n\n\n\n\n\n\n\n\n\n\n\n\n	Support act: Sjeng\, Sjer en Sjele\n\nSjeng en Sjer\, een tweeling die al van kinds af aan graag samen muziek maakt. Sjer vaak op gitaar – soms op de accordeon – Sjeng op de accordeon en samen zingen. Ontelbare uren oefenen\, liters inspiratie en vele kilometers hebben ze afgelegd tijdens hun muzikale reis. Met de Sjele hebben ze al veel avonturen beleefd; Op slechts 16-jarige leeftijd vormden ze samen met Cody\, een begaafde contrabassist\, al een rockabilly band. \nHun ingrediënten halen ze uit het publiek en mixen ze met een vleugje country\, tex-mex en rock&roll tot een muzikaal buffet dat ze vol energie en amusement opdienen – Een op maat gemaakt feestje. \n\n\n\n\n\n\n\n\n\n\n\n\n\n\n\n\n\n\n\n\n\n\n\n\n\n\n\n\n\n\n\n\n \n\n\n\n\n	Algemene info\n\n\nDeuren open: 19:30 uur\nAanvang: 20:30 uur (eindtijd onder voorbehoud)\nTicketprijs is incl. €2 servicekosten
URL:https://oltvb.nl/agenda/john-tana-et-crapuul/
ATTACH;FMTTYPE=image/png:https://oltvb.nl/wp-content/uploads/PR_fotos/JohnTana_website_OLTVB.png
END:VEVENT
END:VCALENDAR