BEGIN:VCALENDAR
VERSION:2.0
PRODID:-//Openluchttheater Valkenburg - ECPv6.15.20//NONSGML v1.0//EN
CALSCALE:GREGORIAN
METHOD:PUBLISH
X-WR-CALNAME:Openluchttheater Valkenburg
X-ORIGINAL-URL:https://oltvb.nl
X-WR-CALDESC:Evenementen voor Openluchttheater Valkenburg
REFRESH-INTERVAL;VALUE=DURATION:PT1H
X-Robots-Tag:noindex
X-PUBLISHED-TTL:PT1H
BEGIN:VTIMEZONE
TZID:Europe/Amsterdam
BEGIN:DAYLIGHT
TZOFFSETFROM:+0100
TZOFFSETTO:+0200
TZNAME:CEST
DTSTART:20250330T010000
END:DAYLIGHT
BEGIN:STANDARD
TZOFFSETFROM:+0200
TZOFFSETTO:+0100
TZNAME:CET
DTSTART:20251026T010000
END:STANDARD
BEGIN:DAYLIGHT
TZOFFSETFROM:+0100
TZOFFSETTO:+0200
TZNAME:CEST
DTSTART:20260329T010000
END:DAYLIGHT
BEGIN:STANDARD
TZOFFSETFROM:+0200
TZOFFSETTO:+0100
TZNAME:CET
DTSTART:20261025T010000
END:STANDARD
BEGIN:DAYLIGHT
TZOFFSETFROM:+0100
TZOFFSETTO:+0200
TZNAME:CEST
DTSTART:20270328T010000
END:DAYLIGHT
BEGIN:STANDARD
TZOFFSETFROM:+0200
TZOFFSETTO:+0100
TZNAME:CET
DTSTART:20271031T010000
END:STANDARD
END:VTIMEZONE
BEGIN:VEVENT
DTSTART;TZID=Europe/Amsterdam:20260701T203000
DTEND;TZID=Europe/Amsterdam:20260701T223000
DTSTAMP:20260420T193919
CREATED:20260327T090030Z
LAST-MODIFIED:20260401T185310Z
UID:180116-1782937800-1782945000@oltvb.nl
SUMMARY:Jonathan Jeremiah
DESCRIPTION:Beïnvloed door de klassieke songwriting van John Martyn\, Scott Walker en Serge Gainsbourg\, combineert de in Londen geboren Jonathan Jeremiah een authentieke\, tijdloze sound met rauwe\, akoestische R&B en folk-getinte soul. Geboren in Londen als zoon van een Anglo-Indische vader en een Ierse katholieke moeder\, begon hij op 14-jarige leeftijd met optreden nadat hij een diepe\, rijke baritonstem had ontwikkeld.  \nIn 2011 bracht Jonathan zijn debuutalbum ‘A Solitary Man’ uit\, dat in Nederland de gouden status behaalde en bij de release op nummer 3 in de hitlijsten terechtkwam. Twee albums volgden: ‘Gold Dust’ uit 2012 (opgenomen met het Metropole Orkest) en ‘Oh Desire’ uit 2015.  \nIn 2018 bracht Jonathan zijn vierde studioalbum Good Day uit\, met de singles ‘Mountain’\, ‘Good Day’ en ‘U-Bahn (It’s Not Too Late For Us)’.  \nIn 2022 volgde zijn vijfde album Horsepower For The Streets\, met de nummers ‘Restless Heart’ en ‘Youngblood’\, die live-avorieten zijn geworden.  \nAfgelopen november bracht Jonathan zijn zesde album\, ‘We Come Alive’ uit\, speelde hij op het North Sea Jazz Festival en toerde hij door Europa.   \nDeze zomer speelt Jonathan een aantal openluchtconcerten waarvan ééntje in Valkenburg in het oudste en mooiste openluchttheater van Nederland. \n\n\n\n\n\n\n\n\n\n\n\n\n\n\n\n\n \n\n\n\n\n	Algemene info\n\n* Deuren open: 19:30 uur\n* Aanvang: 20:30 uur (eindtijd onder voorbehoud)\n* Ticketprijs incl. € 2 servicekosten
URL:https://oltvb.nl/agenda/jonathan-jeremiah/
ATTACH;FMTTYPE=image/jpeg:https://oltvb.nl/wp-content/uploads/Jonathan_jeremiah_website_OLTVB.jpg
END:VEVENT
END:VCALENDAR