BEGIN:VCALENDAR
VERSION:2.0
PRODID:-//Openluchttheater Valkenburg - ECPv6.15.20//NONSGML v1.0//EN
CALSCALE:GREGORIAN
METHOD:PUBLISH
X-WR-CALNAME:Openluchttheater Valkenburg
X-ORIGINAL-URL:https://oltvb.nl
X-WR-CALDESC:Evenementen voor Openluchttheater Valkenburg
REFRESH-INTERVAL;VALUE=DURATION:PT1H
X-Robots-Tag:noindex
X-PUBLISHED-TTL:PT1H
BEGIN:VTIMEZONE
TZID:Europe/Amsterdam
BEGIN:DAYLIGHT
TZOFFSETFROM:+0100
TZOFFSETTO:+0200
TZNAME:CEST
DTSTART:20240331T010000
END:DAYLIGHT
BEGIN:STANDARD
TZOFFSETFROM:+0200
TZOFFSETTO:+0100
TZNAME:CET
DTSTART:20241027T010000
END:STANDARD
BEGIN:DAYLIGHT
TZOFFSETFROM:+0100
TZOFFSETTO:+0200
TZNAME:CEST
DTSTART:20250330T010000
END:DAYLIGHT
BEGIN:STANDARD
TZOFFSETFROM:+0200
TZOFFSETTO:+0100
TZNAME:CET
DTSTART:20251026T010000
END:STANDARD
BEGIN:DAYLIGHT
TZOFFSETFROM:+0100
TZOFFSETTO:+0200
TZNAME:CEST
DTSTART:20260329T010000
END:DAYLIGHT
BEGIN:STANDARD
TZOFFSETFROM:+0200
TZOFFSETTO:+0100
TZNAME:CET
DTSTART:20261025T010000
END:STANDARD
END:VTIMEZONE
BEGIN:VEVENT
DTSTART;TZID=Europe/Amsterdam:20250809T203000
DTEND;TZID=Europe/Amsterdam:20250809T223000
DTSTAMP:20260420T224033
CREATED:20250125T204847Z
LAST-MODIFIED:20250602T153928Z
UID:161926-1754771400-1754778600@oltvb.nl
SUMMARY:-UITVERKOCHT- METEJOOR
DESCRIPTION:De Vlaamse hitmachine Metejoor\, het alter ego van zanger Joris van Rossem\, werd ontdekt door een producer die zijn stem vergeleek met een inslaande meteoor.\n\nIn 2021 verscheen zijn debuutalbum ‘Metejoor’\, met hits als ‘1 Op Een Miljoen’ en ‘Ze Meent Het’. Zijn duet met Hannah Mae\, ‘Wat Wil Je Van Mij’\, werd dubbel platina en is een van de grootste hits in Vlaanderen. Met zijn tweede plaat ‘Joris’ uit september 2023 verbrak hij alle Vlaamse hitparade records. Ook werkte hij samen met grote Nederlandse artiesten als Snelle (‘Kijk Ons Nou’) en Emma Heesters (‘Rendez-Vous’).\n\nVoor dit jaar staat optreden in het iconische Antwerpse Sportpaleis op zijn programma. Maar alvorens hij de grootste zaal van België tweemaal op zijn kop zet komt hij op 9 augustus eerst nog naar het oudste Openluchttheater van Nederland\, bij ons in Valkenburg. Een must-see voor de liefhebber van Nederlandstalige pop! \n\n\n\n\n\n\n\n\n\n\n\n\n\n\n\n\n\n\n\n\n	Algemene info\n\n\nDeuren open: 19:30 uur\nAanvang: 20:30 uur (eindtijd onder voorbehoud)\nTicketprijs is incl. €2 servicekosten\n\n\n\nOpen in Spotify
URL:https://oltvb.nl/agenda/metejoor/
ATTACH;FMTTYPE=image/jpeg:https://oltvb.nl/wp-content/uploads/PR_fotos/Metejoor_website_OLTVB.jpg
END:VEVENT
END:VCALENDAR