BEGIN:VCALENDAR
VERSION:2.0
PRODID:-//Openluchttheater Valkenburg - ECPv6.15.20//NONSGML v1.0//EN
CALSCALE:GREGORIAN
METHOD:PUBLISH
X-WR-CALNAME:Openluchttheater Valkenburg
X-ORIGINAL-URL:https://oltvb.nl
X-WR-CALDESC:Evenementen voor Openluchttheater Valkenburg
REFRESH-INTERVAL;VALUE=DURATION:PT1H
X-Robots-Tag:noindex
X-PUBLISHED-TTL:PT1H
BEGIN:VTIMEZONE
TZID:Europe/Amsterdam
BEGIN:DAYLIGHT
TZOFFSETFROM:+0100
TZOFFSETTO:+0200
TZNAME:CEST
DTSTART:20240331T010000
END:DAYLIGHT
BEGIN:STANDARD
TZOFFSETFROM:+0200
TZOFFSETTO:+0100
TZNAME:CET
DTSTART:20241027T010000
END:STANDARD
BEGIN:DAYLIGHT
TZOFFSETFROM:+0100
TZOFFSETTO:+0200
TZNAME:CEST
DTSTART:20250330T010000
END:DAYLIGHT
BEGIN:STANDARD
TZOFFSETFROM:+0200
TZOFFSETTO:+0100
TZNAME:CET
DTSTART:20251026T010000
END:STANDARD
BEGIN:DAYLIGHT
TZOFFSETFROM:+0100
TZOFFSETTO:+0200
TZNAME:CEST
DTSTART:20260329T010000
END:DAYLIGHT
BEGIN:STANDARD
TZOFFSETFROM:+0200
TZOFFSETTO:+0100
TZNAME:CET
DTSTART:20261025T010000
END:STANDARD
END:VTIMEZONE
BEGIN:VEVENT
DTSTART;TZID=Europe/Amsterdam:20250712T203000
DTEND;TZID=Europe/Amsterdam:20250712T223000
DTSTAMP:20260421T000144
CREATED:20250418T080027Z
LAST-MODIFIED:20250418T081014Z
UID:163979-1752352200-1752359400@oltvb.nl
SUMMARY:NUR DEUTSCHE WELLE | Aber Leise Bitte
DESCRIPTION:In een nieuwe samenstelling komt Nur Deutsche Welle terug naar het openluchttheater\, deze keer voor een wel heel bijzondere voorstelling: \nAber Leise Bitte\, ein Kopfhörerkonzert.    \nInderdaad\, iedere bezoeker krijgt bij binnenkomst een koptelefoon om silent discogewijs völlig losgelöst te geraken en helemaal op te gaan in de heerlijke nummers uit de Neue Deutsche Welle van onder meer Nena\, Peter Schilling\, Spyder Murphy Gang\, Lucilectric maar ook Kraftwerk\, BAP\,\nDAF en Nina Hagen.   \nAber Leise Bitte wordt dus een heel bijzondere avond want u kunt Nur Deutsche Welle en alle hits uit de Neue Deutsche Welle ervaren op een manier als nooit tevoren. \n\n\n\n\n\n\n\n\n\n\n\n\n\n\n\n\n\n\n\n\n	Algemene info\n\n\nDeuren open: 19:30 uur\nAanvang: 20:30 uur (eindtijd onder voorbehoud)\nTicketprijs is incl. €2 servicekosten
URL:https://oltvb.nl/agenda/nur-deutsche-welle-aber-leise-bitte/
ATTACH;FMTTYPE=image/png:https://oltvb.nl/wp-content/uploads/NDW_website_OLTVB.png
END:VEVENT
END:VCALENDAR