BEGIN:VCALENDAR
VERSION:2.0
PRODID:-//Openluchttheater Valkenburg - ECPv6.15.20//NONSGML v1.0//EN
CALSCALE:GREGORIAN
METHOD:PUBLISH
X-WR-CALNAME:Openluchttheater Valkenburg
X-ORIGINAL-URL:https://oltvb.nl
X-WR-CALDESC:Evenementen voor Openluchttheater Valkenburg
REFRESH-INTERVAL;VALUE=DURATION:PT1H
X-Robots-Tag:noindex
X-PUBLISHED-TTL:PT1H
BEGIN:VTIMEZONE
TZID:Europe/Amsterdam
BEGIN:DAYLIGHT
TZOFFSETFROM:+0100
TZOFFSETTO:+0200
TZNAME:CEST
DTSTART:20240331T010000
END:DAYLIGHT
BEGIN:STANDARD
TZOFFSETFROM:+0200
TZOFFSETTO:+0100
TZNAME:CET
DTSTART:20241027T010000
END:STANDARD
BEGIN:DAYLIGHT
TZOFFSETFROM:+0100
TZOFFSETTO:+0200
TZNAME:CEST
DTSTART:20250330T010000
END:DAYLIGHT
BEGIN:STANDARD
TZOFFSETFROM:+0200
TZOFFSETTO:+0100
TZNAME:CET
DTSTART:20251026T010000
END:STANDARD
BEGIN:DAYLIGHT
TZOFFSETFROM:+0100
TZOFFSETTO:+0200
TZNAME:CEST
DTSTART:20260329T010000
END:DAYLIGHT
BEGIN:STANDARD
TZOFFSETFROM:+0200
TZOFFSETTO:+0100
TZNAME:CET
DTSTART:20261025T010000
END:STANDARD
END:VTIMEZONE
BEGIN:VEVENT
DTSTART;TZID=Europe/Amsterdam:20250913T200000
DTEND;TZID=Europe/Amsterdam:20250913T220000
DTSTAMP:20260421T005402
CREATED:20250601T081942Z
LAST-MODIFIED:20250831T190824Z
UID:164983-1757793600-1757800800@oltvb.nl
SUMMARY:-UITVERKOCHT- TRIJNTJE OOSTERHUIS & JAZZ ORCHESTRA OF THE CONCERTGEBOUW | Celebrating Stevie Wonder
DESCRIPTION:Songs in the Key of Life wordt nog altijd gezien als één van de beste platen ooit gemaakt. \nDit baanbrekende album van Stevie Wonder kwam 50 jaar geleden uit en heeft anno nu nog niets aan zeggingskracht verloren. Op dit\nmeesterwerk klinkt Stevie simpelweg op zijn allerbest. In 2025 viert de zanger\, componist en multi-instrumentalist bovendien zijn 75e\nverjaardag – dat moet gevierd worden! \nTrijntje Oosterhuis sloot de handen ineen met het Jazz Orchestra of the Concertgebouw om deze ultieme viering van het werk en leven van Stevie Wonder op plaat vast te leggen. Tijdens dit release concert van dit nieuwe\, enkel op vinyl verkrijgbare album\, ben je de eerste die het materiaal hoort\, en kan je dubbel lp aanschaffen voor in de platenkast. \nVoor Trijntje Oosterhuis is Stevie Wonder dé inspiratiebron geweest om zangeres te worden. Een ontmoeting met hem toen ze 19 jaar oud was\,\nwat leidde tot samen zingen in de backstage\, was voor haar een levensbepalende ervaring. Na het stoppen van de succesformatie Total Touch in 1999 putte Trijntje inspiratie uit Songs in the Key of Life voor haar eerste Stevie Wonder-tour. Deze tour\, die inmiddels 25 jaar geleden plaatsvond\, resulteerde in een van haar bestverkochte albums. \nHet Jazz Orchestra of the Concertgebouw bestaat uit Nederlandse jazzmusici van wereldklasse. De bigband behoort tot de top van Europa\, won meerdere Edison Awards en werkte eerder samen met topmusici als Chick Corea\, Dr. Lonnie Smith\, Joshua Redman & James Carter. Het orkest\nwil meer dan een eeuw (Nederlandse) jazz toegankelijk maken voor nieuwe generaties\, maar kijkt ook vooruit en werkt samen met hedendaagse (jazz)musici uit alle windstreken. Met Trijntje Oosterhuis brachten ze al eerder het album ‘Wonderful Christmastime’ op het befaamde Blue Note label. \n\n\n\n\n\n\n\n\n\n\n\n\n\n\n\n\n \n\n\n\n\n	Algemene info\n\n\nDeuren open: 19:00 uur\nAanvang: 20:00 uur (eindtijd onder voorbehoud)\nTicketprijs is incl. €2 servicekosten
URL:https://oltvb.nl/agenda/trijntje-oosterhuis-jazz-orchestra-of-the-concertgebouw-celebrating-stevie-wonder/
ATTACH;FMTTYPE=image/png:https://oltvb.nl/wp-content/uploads/PR_fotos/JOC_website_OLTVB.png
END:VEVENT
END:VCALENDAR