BEGIN:VCALENDAR
VERSION:2.0
PRODID:-//Openluchttheater Valkenburg - ECPv6.15.20//NONSGML v1.0//EN
CALSCALE:GREGORIAN
METHOD:PUBLISH
X-WR-CALNAME:Openluchttheater Valkenburg
X-ORIGINAL-URL:https://oltvb.nl
X-WR-CALDESC:Evenementen voor Openluchttheater Valkenburg
REFRESH-INTERVAL;VALUE=DURATION:PT1H
X-Robots-Tag:noindex
X-PUBLISHED-TTL:PT1H
BEGIN:VTIMEZONE
TZID:Europe/Amsterdam
BEGIN:DAYLIGHT
TZOFFSETFROM:+0100
TZOFFSETTO:+0200
TZNAME:CEST
DTSTART:20240331T010000
END:DAYLIGHT
BEGIN:STANDARD
TZOFFSETFROM:+0200
TZOFFSETTO:+0100
TZNAME:CET
DTSTART:20241027T010000
END:STANDARD
BEGIN:DAYLIGHT
TZOFFSETFROM:+0100
TZOFFSETTO:+0200
TZNAME:CEST
DTSTART:20250330T010000
END:DAYLIGHT
BEGIN:STANDARD
TZOFFSETFROM:+0200
TZOFFSETTO:+0100
TZNAME:CET
DTSTART:20251026T010000
END:STANDARD
BEGIN:DAYLIGHT
TZOFFSETFROM:+0100
TZOFFSETTO:+0200
TZNAME:CEST
DTSTART:20260329T010000
END:DAYLIGHT
BEGIN:STANDARD
TZOFFSETFROM:+0200
TZOFFSETTO:+0100
TZNAME:CET
DTSTART:20261025T010000
END:STANDARD
END:VTIMEZONE
BEGIN:VEVENT
DTSTART;TZID=Europe/Amsterdam:20250810T150000
DTEND;TZID=Europe/Amsterdam:20250810T170000
DTSTAMP:20260420T235819
CREATED:20250421T075100Z
LAST-MODIFIED:20250624T065824Z
UID:164040-1754838000-1754845200@oltvb.nl
SUMMARY:-UITVERKOCHT- ULTIMATE EAGLES
DESCRIPTION:De Ultimate Eagles komen na hun uitverkochte show in 2023 eindelijk terug naar ons theater. En deze keer voor een middagvoorstelling!  \nTijdens een concert van deze band waan je je in de jaren ’70 in Southern California\, de hoogtijdagen van The Eagles. De band is in korte tijd uitgegroeid tot één van de meest succesvolle tribute acts ter wereld. Zelfs de video’s van de mannen worden veel bekeken en zijn inmiddels\nover de 10 miljoen views gevlogen. Na hun uitverkochte show twee jaar geleden staan ze te trappelen om weer terug te komen met het best mogelijke eerbetoon aan The Eagles!  \nDe band bestaat uit muzikanten die je ook van grote andere bands kunt kennen: Danny Vaughn (Waysted\, Tyketto)\, Chris Childs (Thunder\,\nThe Union\, Paul Young)\, Ryan Aston (Abbamania)\, Chris Wright\, Christian Philips (Duffy\, Sonic Executives)\, Michael Lawrence (The Commitments).  \nWees er snel bij want tickets voor deze voorstelling zullen snel verkopen.   \n“The next best thing to The Eagles. Superb: do not expect a lookalike band; these are real musicians with real passion” \n–The Mail on Sunday \n\n\n\n\n\n\n\n\n\n\n\n\n\n\n\n\n\n\n\n\n	Algemene info\n\n\nDeuren open: 14:00 uur\nAanvang: 15:00 uur (eindtijd onder voorbehoud)\nTicketprijs is incl. €2 servicekosten
URL:https://oltvb.nl/agenda/ultimate-eagles/
ATTACH;FMTTYPE=image/png:https://oltvb.nl/wp-content/uploads/PR_fotos/UltimateEagles_website_OLTVB.png
END:VEVENT
END:VCALENDAR