BEGIN:VCALENDAR
VERSION:2.0
PRODID:-//Openluchttheater Valkenburg - ECPv6.15.20//NONSGML v1.0//EN
CALSCALE:GREGORIAN
METHOD:PUBLISH
X-WR-CALNAME:Openluchttheater Valkenburg
X-ORIGINAL-URL:https://oltvb.nl
X-WR-CALDESC:Evenementen voor Openluchttheater Valkenburg
REFRESH-INTERVAL;VALUE=DURATION:PT1H
X-Robots-Tag:noindex
X-PUBLISHED-TTL:PT1H
BEGIN:VTIMEZONE
TZID:Europe/Amsterdam
BEGIN:DAYLIGHT
TZOFFSETFROM:+0100
TZOFFSETTO:+0200
TZNAME:CEST
DTSTART:20250330T010000
END:DAYLIGHT
BEGIN:STANDARD
TZOFFSETFROM:+0200
TZOFFSETTO:+0100
TZNAME:CET
DTSTART:20251026T010000
END:STANDARD
BEGIN:DAYLIGHT
TZOFFSETFROM:+0100
TZOFFSETTO:+0200
TZNAME:CEST
DTSTART:20260329T010000
END:DAYLIGHT
BEGIN:STANDARD
TZOFFSETFROM:+0200
TZOFFSETTO:+0100
TZNAME:CET
DTSTART:20261025T010000
END:STANDARD
BEGIN:DAYLIGHT
TZOFFSETFROM:+0100
TZOFFSETTO:+0200
TZNAME:CEST
DTSTART:20270328T010000
END:DAYLIGHT
BEGIN:STANDARD
TZOFFSETFROM:+0200
TZOFFSETTO:+0100
TZNAME:CET
DTSTART:20271031T010000
END:STANDARD
END:VTIMEZONE
BEGIN:VEVENT
DTSTART;TZID=Europe/Amsterdam:20260719T110000
DTEND;TZID=Europe/Amsterdam:20260719T130000
DTSTAMP:20260424T114232
CREATED:20260419T070005Z
LAST-MODIFIED:20260418T173330Z
UID:180508-1784458800-1784466000@oltvb.nl
SUMMARY:Vincent Kusters en Kasper Schonewille - Schwanengesang (Franz Schubert)
DESCRIPTION:Afgelopen twee jaar maakte Vincent Kusters\, begeleid door pianist Kasper Schonewille\, een verpletterende indruk in het openluchttheater met zijn interpretatie van de liederencycli Winterreise en Die schöne Müllerin van Franz Schubert. Dit jaar komt het duo terug met die andere iconische liederencyclus van de grootmeester van het klassieke lied: Schwanengesang. \nIn tegenstelling tot Die schöne Müllerin en Winterreise gaat het hier om de getoonzette verzen van drie dichters: Ludwig Rellstab\, Heinrich Heine en Johan Gabriel Seidl. Taubenpost\, het veertiende en laatste lied uit Schwanengesang\, wordt beschouwd als Schuberts laatste lied.   \nVincent Kusters is een veelgevraagd concert- en liedzanger met een voorkeur voor het romantische lied\, in het bijzonder Schubert. Voor zijn liedvertolkingen won hij diverse nationale en internationale prijzen. \nKasper Schonewille studeerde in 2018 af aan de Robert-Schumann-Hochschule van Düsseldorf bij Paolo Giacometti. Met zijn Mendelssohn-project (cd\, boekje met eigen tekeningen en optredens) trok hij sindsdien nationale aandacht. Kasper bespeelt een historisch instrument van Erard\, de belangrijkste pianobouwer uit de muziekgeschiedenis.  \n\n\n\n\n\n\n\n\n\n\n\n\n\n\n\n\n \n\n\n\n\n	Algemene info\n\n* Deuren open: 10:00 uur\n* Aanvang: 11:00 uur (eindtijd onder voorbehoud)\n* Ticketprijs incl. € 2 servicekosten
URL:https://oltvb.nl/agenda/vincent-kusters-en-kasper-schonewille-schwanengesang/
ATTACH;FMTTYPE=image/jpeg:https://oltvb.nl/wp-content/uploads/VincentKasper_website_OLTVB.jpg
END:VEVENT
END:VCALENDAR