BEGIN:VCALENDAR
VERSION:2.0
PRODID:-//Openluchttheater Valkenburg - ECPv6.15.20//NONSGML v1.0//EN
CALSCALE:GREGORIAN
METHOD:PUBLISH
X-WR-CALNAME:Openluchttheater Valkenburg
X-ORIGINAL-URL:https://oltvb.nl
X-WR-CALDESC:Evenementen voor Openluchttheater Valkenburg
REFRESH-INTERVAL;VALUE=DURATION:PT1H
X-Robots-Tag:noindex
X-PUBLISHED-TTL:PT1H
BEGIN:VTIMEZONE
TZID:Europe/Amsterdam
BEGIN:DAYLIGHT
TZOFFSETFROM:+0100
TZOFFSETTO:+0200
TZNAME:CEST
DTSTART:20250330T010000
END:DAYLIGHT
BEGIN:STANDARD
TZOFFSETFROM:+0200
TZOFFSETTO:+0100
TZNAME:CET
DTSTART:20251026T010000
END:STANDARD
BEGIN:DAYLIGHT
TZOFFSETFROM:+0100
TZOFFSETTO:+0200
TZNAME:CEST
DTSTART:20260329T010000
END:DAYLIGHT
BEGIN:STANDARD
TZOFFSETFROM:+0200
TZOFFSETTO:+0100
TZNAME:CET
DTSTART:20261025T010000
END:STANDARD
BEGIN:DAYLIGHT
TZOFFSETFROM:+0100
TZOFFSETTO:+0200
TZNAME:CEST
DTSTART:20270328T010000
END:DAYLIGHT
BEGIN:STANDARD
TZOFFSETFROM:+0200
TZOFFSETTO:+0100
TZNAME:CET
DTSTART:20271031T010000
END:STANDARD
END:VTIMEZONE
BEGIN:VEVENT
DTSTART;TZID=Europe/Amsterdam:20260830T110000
DTEND;TZID=Europe/Amsterdam:20260830T130000
DTSTAMP:20260421T015228
CREATED:20260419T070007Z
LAST-MODIFIED:20260418T172653Z
UID:180525-1788087600-1788094800@oltvb.nl
SUMMARY:Vincent Kusters & Roger Braun – Dichterliebe (Robert Schumann)
DESCRIPTION:Dit jaar komt bariton Vincent Kusters maar liefst tweemaal naar ons theater. Deze keer met de Liederencyclus Dichterliebe van Robert Schumann\, met begeleiding van pianist Roger Braun. \nDichterliebe is een cyclus van zestien romantische liederen die Robert Schumann in 1840 schreef op gedichten van Heinrich Heine uit diens bundel Lyrisches Intermezzo. Schumann liet zich zoals in vele van zijn liederen inspireren door de natuur\, de eenzaamheid en vooral door zijn liefde voor zijn vrouw Clara. \nVincent Kusters is een veelgevraagd concert- en liedzanger met een voorkeur voor het romantische lied\, in het bijzonder Schubert. Voor zijn liedvertolkingen won hij diverse nationale en internationale prijzen. \nRoger Braun is een van Nederlands vooraanstaande liedbegeleiders. Hij was als solopianist en liedbegeleider prijswinnaar van o.a. het Eduard Flipse-concours in Rotterdam\, het Internationale ´Paula Lindberg-Salomon Wettbewerb´ in Berlijn en ´Wigmore Hall International Song Competition´ in Londen. Roger Braun is docent ‘Liedgestaltung‘ voor zangers en pianisten aan de Hochschule für Musik und Tanz Köln.  \n\n\n\n\n\n\n\n\n\n\n\n\n\n\n\n\n \n\n\n\n\n	Algemene info\n\n* Deuren open: 10:00 uur\n* Aanvang: 11:00 uur (eindtijd onder voorbehoud)\n* Ticketprijs incl. € 2 servicekosten
URL:https://oltvb.nl/agenda/vincent-kusters-en-roger-braun-dichterliebe/
ATTACH;FMTTYPE=image/jpeg:https://oltvb.nl/wp-content/uploads/VincentRoger_website_OLTVB.jpg
END:VEVENT
END:VCALENDAR